BEGIN:VCALENDAR
VERSION:2.0
PRODID:-//Château de Cranne - ECPv6.2.8//NONSGML v1.0//EN
CALSCALE:GREGORIAN
METHOD:PUBLISH
X-ORIGINAL-URL:https://chateaudecranne.fr
X-WR-CALDESC:évènements pour Château de Cranne
REFRESH-INTERVAL;VALUE=DURATION:PT1H
X-Robots-Tag:noindex
X-PUBLISHED-TTL:PT1H
BEGIN:VTIMEZONE
TZID:Europe/Paris
BEGIN:DAYLIGHT
TZOFFSETFROM:+0100
TZOFFSETTO:+0200
TZNAME:CEST
DTSTART:20250330T010000
END:DAYLIGHT
BEGIN:STANDARD
TZOFFSETFROM:+0200
TZOFFSETTO:+0100
TZNAME:CET
DTSTART:20251026T010000
END:STANDARD
END:VTIMEZONE
BEGIN:VEVENT
DTSTART;TZID=Europe/Paris:20251129T080000
DTEND;TZID=Europe/Paris:20251130T170000
DTSTAMP:20260421T220608
CREATED:20251013T121402Z
LAST-MODIFIED:20251013T121402Z
UID:1104-1764403200-1764522000@chateaudecranne.fr
SUMMARY:Journées Gourmandes Loupiac & Foie Gras 2025
DESCRIPTION:Préparez vos papilles ! Les 29 et 30 novembre 2025\, les vignerons de Loupiac et les fermiers des Landes vous convient à la 29ème édition de leurs emblématiques Journées Gourmandes. Le temps d’un week-end\, 17 châteaux de l’appellation Loupiac ouvrent grand leurs portes de 10h à 19h pour une immersion festive au cœur du terroir\, célébrant le mariage parfait entre la douceur des vins de Loupiac et la richesse du foie gras des Landes. \nDans une ambiance chaleureuse et amicale\, les visiteurs sont invités à aller à la rencontre des 17 Châteaux participants accueillant chacun\, 17 producteurs de Foie Gras ! Au menu de ces journées gourmandes : dégustations des vins de Loupiac et de produits fermiers directement dans les chais\, balades dans le vignoble et animations pour toute la famille. À l’approche des fêtes\, c’est l’occasion idéale pour faire ses provisions de foie gras\, confits\, magrets et de bouteilles de Loupiac pour sublimer les tables de fin d’année. \nRendez-vous à partir de 10h30 au Château de Cranne pour découvrir ou redécouvrir tous les vins du domaine ainsi que nos nouveautés 2025 !
URL:https://chateaudecranne.fr/event/journees-gourmandes-loupiac-foie-gras-2025/
ATTACH;FMTTYPE=image/png:https://chateaudecranne.fr/files/uploads/2025/10/Loupiac2025.png
END:VEVENT
END:VCALENDAR