BEGIN:VCALENDAR
VERSION:2.0
PRODID:-//Château de Cranne - ECPv6.2.8//NONSGML v1.0//EN
CALSCALE:GREGORIAN
METHOD:PUBLISH
X-WR-CALNAME:Château de Cranne
X-ORIGINAL-URL:https://chateaudecranne.fr
X-WR-CALDESC:évènements pour Château de Cranne
REFRESH-INTERVAL;VALUE=DURATION:PT1H
X-Robots-Tag:noindex
X-PUBLISHED-TTL:PT1H
BEGIN:VTIMEZONE
TZID:Europe/Paris
BEGIN:DAYLIGHT
TZOFFSETFROM:+0100
TZOFFSETTO:+0200
TZNAME:CEST
DTSTART:20250330T010000
END:DAYLIGHT
BEGIN:STANDARD
TZOFFSETFROM:+0200
TZOFFSETTO:+0100
TZNAME:CET
DTSTART:20251026T010000
END:STANDARD
END:VTIMEZONE
BEGIN:VEVENT
DTSTART;VALUE=DATE:20250430
DTEND;VALUE=DATE:20250502
DTSTAMP:20260421T032051
CREATED:20250227T103616Z
LAST-MODIFIED:20250227T104551Z
UID:1051-1745985600-1746071999@chateaudecranne.fr
SUMMARY:Acheter les vins bios du Château de Cran­ne en ligne : découvrez notre nouvelle boutique !
DESCRIPTION:Le Château de Cran­ne vous propose désormais d’acheter ses vins bio en ligne en toute simplicité. Nos cuvées\, issues d’un travail minutieux et engagé\, reflètent un Bordeaux innovant et respectueux du terroir. \nPourquoi choisir les vins bio du Château de Cran­ne ?\nDepuis 2009\, le Château de Cran­ne est certifié bio\, une démarche essentielle pour préserver la nature et proposer des vins sincères\, authentiques et surprenants. Vincent Lacoste\, vigneron passionné\, explore chaque année de nouvelles façons d’exprimer le terroir\, en testant des cépages plus résistants et en limitant les traitements dans la vigne. \nCommandez facilement votre vin bio en ligne\nGrâce à notre boutique en ligne\, il est maintenant possible d’acheter nos cuvées en quelques clics. Pour célébrer ce lancement\, nous vous offrons 10% de réduction avec le code Sterenn2025 valable du 27 février au 30 avril 2025. \n📍 Livraison en France métropolitaine \n🔗 Découvrir nos vins bio et commander en ligne \nUn Bordeaux engagé qui bouscule les codes\nLe Château de Cran­ne s’inscrit dans une dynamique de renouveau du vignoble bordelais\, en proposant des vins qui allient tradition et modernité. Nos cuvées se distinguent par leur personnalité et leur approche libre\, tout en respectant les grands équilibres du vin de Bordeaux. \nDécouvrez aussi :\n\nNotre histoire et nos activités à la propriété\n\n⚠️ L’abus d’alcool est dangereux pour la santé. À consommer avec modération.👥 Vente interdite aux mineurs.
URL:https://chateaudecranne.fr/event/acheter-vin-bio-chateau-de-cranne-en-ligne/
LOCATION:Château de Cranne\, 1 Cranne Sud\, Donzac\, 33410\, France
CATEGORIES:nouvelles cuvées
ATTACH;FMTTYPE=image/png:https://chateaudecranne.fr/files/uploads/2025/02/insta-cranne-1080-x-1350-px.png
END:VEVENT
END:VCALENDAR