BEGIN:VCALENDAR
VERSION:2.0
PRODID:-//Château de Cranne - ECPv6.2.8//NONSGML v1.0//EN
CALSCALE:GREGORIAN
METHOD:PUBLISH
X-ORIGINAL-URL:https://chateaudecranne.fr
X-WR-CALDESC:évènements pour Château de Cranne
REFRESH-INTERVAL;VALUE=DURATION:PT1H
X-Robots-Tag:noindex
X-PUBLISHED-TTL:PT1H
BEGIN:VTIMEZONE
TZID:Europe/Paris
BEGIN:DAYLIGHT
TZOFFSETFROM:+0100
TZOFFSETTO:+0200
TZNAME:CEST
DTSTART:20230326T010000
END:DAYLIGHT
BEGIN:STANDARD
TZOFFSETFROM:+0200
TZOFFSETTO:+0100
TZNAME:CET
DTSTART:20231029T010000
END:STANDARD
END:VTIMEZONE
BEGIN:VEVENT
DTSTART;TZID=Europe/Paris:20230819T193000
DTEND;TZID=Europe/Paris:20230819T233000
DTSTAMP:20260423T101449
CREATED:20230807T072243Z
LAST-MODIFIED:20230807T072246Z
UID:871-1692473400-1692487800@chateaudecranne.fr
SUMMARY:Apéro Brochettes II
DESCRIPTION:Nous avons pris beaucoup de plaisir à vous accueillir au mois de Juillet et nous sommes enthousiastes à l’idée de vous reproposer une édition de nos Apéros Brochettes ! \nC’est une immersion dans une ambiance champêtre qui vous attend ! \nVincent comme toujours s’occupe des grillades sur les barbecues de notre partenaire Big Green Egg. Quand à vous\, vous vous laissez simplement porter par l’ambiance de la soirée\, à la lueur des bougies. \nNos plats sont accompagnés des vins de la propriété. Rouge\, blanc ou rosé c’est vous qui choisissez ! \nC’est une soirée simple et conviviale parfaite pour se détendre en famille ou entre amis ! \nMENU 25€ \nPlanche Produits de terroir\nBrochettes maison accompagnées de légumes de saison*\nCafé ou thé gourmand \n*Gratin de pâtes pour les enfants\n**Variante veggie possible \nPour les vins à vous de choisir parmi toutes nos gammes ! \nMerci de réserver en remplissant ce formulaire : https://forms.gle/wjy1sQYKB54uV9tg7  \n \nTrès bel été à tous !
URL:https://chateaudecranne.fr/event/apero-brochettes-ii/
CATEGORIES:Apéro Brochettes,Partenariat Big Green Egg
ATTACH;FMTTYPE=image/png:https://chateaudecranne.fr/files/uploads/2023/08/Affiche-15-juillet-chateau-de-cranne-19.png
END:VEVENT
END:VCALENDAR