BEGIN:VCALENDAR
VERSION:2.0
PRODID:-//Château de Cranne - ECPv6.2.8//NONSGML v1.0//EN
CALSCALE:GREGORIAN
METHOD:PUBLISH
X-ORIGINAL-URL:https://chateaudecranne.fr
X-WR-CALDESC:évènements pour Château de Cranne
REFRESH-INTERVAL;VALUE=DURATION:PT1H
X-Robots-Tag:noindex
X-PUBLISHED-TTL:PT1H
BEGIN:VTIMEZONE
TZID:Europe/Paris
BEGIN:DAYLIGHT
TZOFFSETFROM:+0100
TZOFFSETTO:+0200
TZNAME:CEST
DTSTART:20230326T010000
END:DAYLIGHT
BEGIN:STANDARD
TZOFFSETFROM:+0200
TZOFFSETTO:+0100
TZNAME:CET
DTSTART:20231029T010000
END:STANDARD
END:VTIMEZONE
BEGIN:VEVENT
DTSTART;TZID=Europe/Paris:20231030T080000
DTEND;TZID=Europe/Paris:20231130T170000
DTSTAMP:20260419T032005
CREATED:20231023T084242Z
LAST-MODIFIED:20231023T085600Z
UID:901-1698652800-1701363600@chateaudecranne.fr
SUMMARY:La Collab du mois : Les Miels de Joyeuse
DESCRIPTION:Nous avons décidé plusieurs fois par an de mettre en avant des marques ou des produits avec qui nous partageons des valeurs et qui s’associent à merveille avec les vins du Château ! \nCe mois-ci\, découvrez les petites merveilles des Miels de Joyeuse ! \nD’abord\, ne soyons pas impolis on fait les présentations ! \nLes miels de Joyeuse sont nés\, du nom d’une petite ville fortifiée qui\, selon la légende\, se rapporte à l’épée de Charlemagne. Le nectar phare\, numéroté\, est le fruit d’une récolte unique sur la crête des montagnes de Thines\, à côté de Joyeuse. Un miel rare issu d’un environnement pur. \nÀ cheval sur l’étiquette\, mais surtout sur l’éthique\, ils ont poursuivi leur quête de miels exceptionnels fabriqués en France dans le respect de l’environnement. \nIls sont ainsi allés butiner un peu plus loin\, goûtant aux saveurs d’autres parcs naturels\, en Camargue\, en Haut-Languedoc\, dans le Vercors et jusque dans le Morvan. Chaque territoire\, chaque fleur a enrichi leur gamme de miels\, avec pour point commun la qualité. Aujourd’hui issus de neuf parcs naturels dotés d’une biodiversité extraordinaire\, leurs miels proviennent de zones de récolte préservées et d’exploitations à taille humaine\, où l’apiculteur travaille en symbiose avec son cheptel et son environnement. Pour effectuer leur sélection\, ils se laissent guider par trois valeurs essentielles : le respect\, le savoir-faire et le terroir. \nAlors devinez quoi\, les Miels de Joyeuses sont à retrouver à la boutique et seront également à découvrir lors de nos prochaines Portes Ouvertes le 25 et 26 Novembre !
URL:https://chateaudecranne.fr/event/la-collab-du-mois-les-miels-de-joyeuse/
CATEGORIES:Nos partenaires coup de coeur
ATTACH;FMTTYPE=image/png:https://chateaudecranne.fr/files/uploads/2023/10/Miel-de-Joyeuse-Chateau-de-Cranne-1-1.png
END:VEVENT
BEGIN:VEVENT
DTSTART;TZID=Europe/Paris:20231125T100000
DTEND;TZID=Europe/Paris:20231126T200000
DTSTAMP:20260419T032005
CREATED:20231023T085349Z
LAST-MODIFIED:20231120T145705Z
UID:903-1700906400-1701028800@chateaudecranne.fr
SUMMARY:Portes Ouvertes Loupiac et Fois Gras
DESCRIPTION:Nous sommes ravis de vous convier à nouveau au Château pour nos Portes Ouvertes Loupiac & Foie gras\, une tradition que nous adorons. \n  \nCe que vous y trouverez ? Des dégustations de nos vins biologiques\, accompagnées de produits soigneusement choisis de nos partenaires de confiance : \n  \n🍯Les Miels de Joyeuse \n🫒Le Domaine de Cabrol \n🍺Brasserie La Giron \n🦆La ferme Comet-Tournier \n🍫Et\, bien sûr\, une sélection de chocolats délicieux… \nLe 25 et 26 novembre\, ça sera week-end de fêtes pour vos papilles ! \nEt surtout n’hésitez pas à vous inscrire à notre animation spéciale : Le Mystère de Diego Berson ! \nToutes les informations ici : https://chateaudecranne.fr/event/cluedo-geant-special-portes-ouvertes/ \n 
URL:https://chateaudecranne.fr/event/portes-ouvertes-loupiac-et-fois-gras/
CATEGORIES:Journée Portes Ouvertes
ATTACH;FMTTYPE=image/jpeg:https://chateaudecranne.fr/files/uploads/2023/10/insta-loupiacfg23.jpg
END:VEVENT
BEGIN:VEVENT
DTSTART;TZID=Europe/Paris:20231125T153000
DTEND;TZID=Europe/Paris:20231125T170000
DTSTAMP:20260419T032005
CREATED:20231120T134321Z
LAST-MODIFIED:20231120T135847Z
UID:919-1700926200-1700931600@chateaudecranne.fr
SUMMARY:🔎Cluedo Géant Spécial Portes Ouvertes🔍
DESCRIPTION:Dans le cadre de nos Journées Portes Ouvertes\, nous vous proposons une animation originale. Nous avons besoin de vous pour résoudre un mystère. Venez ensuite profitez d’une dégustation dans le chai pour découvrir nos différentes gammes et les produits supers sympas de nos partenaires locaux ! \nMystère au Château de Cranne : L’Affaire Diego Berson \nL’affaire Diego Berson vous attend au Château de Cranne pour une aventure hors du commun. \nRejoignez-nous dans les couloirs du temps\, là où les secrets anciens murmurent encore. \nUne mission en équipe remplie de mystère\, de stratégie et d’énigmes. Êtes-vous prêt à dévoiler les ombres du passé et à résoudre le mystère qui entoure la disparition de Diego Berson ? Chaque indice compte\, chaque suspect cache une vérité.\nVotre esprit est-il assez aiguisé pour déchiffrer les énigmes du château ? \nL’aventure commence maintenant.\nÀ vous de jouer… \n  \nSession du samedi 25/11\nLancement du jeu pour 15h30\nSession du dimanche 26/11\nLancement du jeu pour 10h30\n\n\n🔎 Durée : 01h00 / 01h30\n🔎 A partir de 12 ans\n🔎 5 personnes par équipe minimum\n🔎 10€ / personne (prix spécial Portes Ouvertes)\n\nINSCRIPTIONS : https://forms.gle/2njNhsTXLqcBqjRD6 \n\n\n\n\n\nhttps://chateaudecranne.fr/files/uploads/2023/11/Teaser-Cluedo-Chateau-de-Cranne-Grand-Format.mp4\n\n\n 
URL:https://chateaudecranne.fr/event/cluedo-geant-special-portes-ouvertes/
CATEGORIES:Journée Portes Ouvertes
ATTACH;FMTTYPE=image/jpeg:https://chateaudecranne.fr/files/uploads/2023/11/Affiche-Cluedo-Chateau-de-Cranne-jpg.jpg
END:VEVENT
END:VCALENDAR